{"text_format":"1","workbook":"xlsx","n_sheets":5,"sheets":["Stocks","More","Trader","Advanced Stock Query","Quotation"],"not_rendered":{"charts":0,"images":3,"macros":1,"external_links":0,"defined_names":1,"comments":2,"pivot_tables":0},"unopened":[],"bounds":{"document_bytes":16777216,"sheet_cells":100000,"rows_first":2000,"rows_last":500,"rows_between":2000,"halvings":0,"cell_chars":16384,"cell_head_chars":4096},"cells_cut":0,"cells_raw":0,"read":"whole","date_system":"1900"}

{"sheet":"Stocks","index":0,"n_rows":109,"n_cols":8,"rows_kept":109,"cut":false,"hidden":false,"merged":[[0,3,0,6]]}
[null,null,"The FTSE 100 Index"]
[]
["\u008c   Data source >",null,"http://www.reuters.com/finance/markets/index?symbol=gb!ftse&sortBy=&sortDir=&pn=0"]
["\u008d   Information >",null,"http://en.wikipedia.org/wiki/FTSE_100_Index#Constituents"]
[]
["Import data here >"]
[]
[]
[]
[]
[]
[]
[]
[]
[]
[]
[]
[]
[]
[]
[]
[]
[]
[]
[]
[]
[]
[]
[]
[]
[]
[]
[]
[]
[]
[]
[]
[]
[]
[]
[]
[]
[]
[]
[]
[]
[]
[]
[]
[]
[]
[]
[]
[]
[]
[]
[]
[]
[]
[]
[]
[]
[]
[]
[]
[]
[]
[]
[]
[]
[]
[]
[]
[]
[]
[]
[]
[]
[]
[]
[]
[]
[]
[]
[]
[]
[]
[]
[]
[]
[]
[]
[]
[]
[]
[]
[]
[]
[]
[]
[]
[]
[]
[]
[]
[]
[]
[]
[null,null,null,null,null,null,null,"Total"]

{"sheet":"More","index":1,"n_rows":6,"n_cols":5,"rows_kept":6,"cut":false,"hidden":false,"merged":[]}
[null,"Try some other websites to import live data into Excel"]
[null,null,null,null,"From the Data menu, choose 'From Web' and paste your address in the browser bar.   Find the table and tick it."]
[null,"English Premier League"]
[null,null,"http://www.statto.com/football/stats/england/premier-league/2013-2014/table"]
[null,"Currency Converter"]
[null,null,"http://www.xe.com/currencytables/?from=GBP&date=2014-03-13"]

{"sheet":"Trader","index":2,"n_rows":109,"n_cols":18,"rows_kept":109,"cut":false,"hidden":true,"merged":[[0,3,0,6],[0,11,0,14],[2,2,2,7],[3,2,3,7]]}
[{"$f":"+R109","v":0},null,"Total to invest",{"$f":"10000000-SUM(K6:K108)+L1","v":10000000},null,null,null,null,"Current Profit or Loss",null,null,{"$f":"SUM(M7:M108)","v":0}]
[null,null,null,null,null,null,null,null,"Position","Bought at","Start value","Value Now","Profit/Loss",null,null,null,null,"NoCheat"]
[]
[]
[]
[null,null,{"$f":"Stocks!C6","v":0},{"$f":"Stocks!D6","v":0},{"$f":"Stocks!E6","v":0},{"$f":"Stocks!F6","v":0},{"$f":"Stocks!G6","v":0},null,null,null,null,null,null,null,null,null,null,{"$f":"MOD(I6*ROW(I6),13)","v":0}]
[null,null,{"$f":"Stocks!C7","v":0},{"$f":"Stocks!D7","v":0},{"$f":"Stocks!E7","v":0},{"$f":"Stocks!F7","v":0},{"$f":"Stocks!G7","v":0},null,0,null,null,null,null,null,null,null,null,{"$f":"MOD(I7*ROW(I7),13)","v":0}]
[null,null,{"$f":"Stocks!C8","v":0},{"$f":"Stocks!D8","v":0},{"$f":"Stocks!E8","v":0},{"$f":"Stocks!F8","v":0},{"$f":"Stocks!G8","v":0},null,0,null,null,null,null,null,null,null,null,0]
[null,null,{"$f":"Stocks!C9","v":0},{"$f":"Stocks!D9","v":0},{"$f":"Stocks!E9","v":0},{"$f":"Stocks!F9","v":0},{"$f":"Stocks!G9","v":0},null,0,null,null,null,null,null,null,null,null,0]
[null,null,{"$f":"Stocks!C10","v":0},{"$f":"Stocks!D10","v":0},{"$f":"Stocks!E10","v":0},{"$f":"Stocks!F10","v":0},{"$f":"Stocks!G10","v":0},null,0,null,null,null,null,null,null,null,null,0]
[null,null,{"$f":"Stocks!C11","v":0},{"$f":"Stocks!D11","v":0},{"$f":"Stocks!E11","v":0},{"$f":"Stocks!F11","v":0},{"$f":"Stocks!G11","v":0},null,0,null,null,null,null,null,null,null,null,0]
[null,null,{"$f":"Stocks!C12","v":0},{"$f":"Stocks!D12","v":0},{"$f":"Stocks!E12","v":0},{"$f":"Stocks!F12","v":0},{"$f":"Stocks!G12","v":0},null,0,null,null,null,null,null,null,null,null,0]
[null,null,{"$f":"Stocks!C13","v":0},{"$f":"Stocks!D13","v":0},{"$f":"Stocks!E13","v":0},{"$f":"Stocks!F13","v":0},{"$f":"Stocks!G13","v":0},null,0,null,null,null,null,null,null,null,null,0]
[null,null,{"$f":"Stocks!C14","v":0},{"$f":"Stocks!D14","v":0},{"$f":"Stocks!E14","v":0},{"$f":"Stocks!F14","v":0},{"$f":"Stocks!G14","v":0},null,0,null,null,null,null,null,null,null,null,0]
[null,null,{"$f":"Stocks!C15","v":0},{"$f":"Stocks!D15","v":0},{"$f":"Stocks!E15","v":0},{"$f":"Stocks!F15","v":0},{"$f":"Stocks!G15","v":0},null,0,null,null,null,null,null,null,null,null,0]
[null,null,{"$f":"Stocks!C16","v":0},{"$f":"Stocks!D16","v":0},{"$f":"Stocks!E16","v":0},{"$f":"Stocks!F16","v":0},{"$f":"Stocks!G16","v":0},null,0,null,null,null,null,null,null,null,null,0]
[null,null,{"$f":"Stocks!C17","v":0},{"$f":"Stocks!D17","v":0},{"$f":"Stocks!E17","v":0},{"$f":"Stocks!F17","v":0},{"$f":"Stocks!G17","v":0},null,0,null,null,null,null,null,null,null,null,0]
[null,null,{"$f":"Stocks!C18","v":0},{"$f":"Stocks!D18","v":0},{"$f":"Stocks!E18","v":0},{"$f":"Stocks!F18","v":0},{"$f":"Stocks!G18","v":0},null,0,null,null,null,null,null,null,null,null,0]
[null,null,{"$f":"Stocks!C19","v":0},{"$f":"Stocks!D19","v":0},{"$f":"Stocks!E19","v":0},{"$f":"Stocks!F19","v":0},{"$f":"Stocks!G19","v":0},null,0,null,null,null,null,null,null,null,null,0]
[null,null,{"$f":"Stocks!C20","v":0},{"$f":"Stocks!D20","v":0},{"$f":"Stocks!E20","v":0},{"$f":"Stocks!F20","v":0},{"$f":"Stocks!G20","v":0},null,0,null,null,null,null,null,null,null,null,0]
[null,null,{"$f":"Stocks!C21","v":0},{"$f":"Stocks!D21","v":0},{"$f":"Stocks!E21","v":0},{"$f":"Stocks!F21","v":0},{"$f":"Stocks!G21","v":0},null,0,null,null,null,null,null,null,null,null,0]
[null,null,{"$f":"Stocks!C22","v":0},{"$f":"Stocks!D22","v":0},{"$f":"Stocks!E22","v":0},{"$f":"Stocks!F22","v":0},{"$f":"Stocks!G22","v":0},null,0,null,null,null,null,null,null,null,null,0]
[null,null,{"$f":"Stocks!C23","v":0},{"$f":"Stocks!D23","v":0},{"$f":"Stocks!E23","v":0},{"$f":"Stocks!F23","v":0},{"$f":"Stocks!G23","v":0},null,0,null,null,null,null,null,null,null,null,0]
[null,null,{"$f":"Stocks!C24","v":0},{"$f":"Stocks!D24","v":0},{"$f":"Stocks!E24","v":0},{"$f":"Stocks!F24","v":0},{"$f":"Stocks!G24","v":0},null,0,null,null,null,null,null,null,null,null,0]
[null,null,{"$f":"Stocks!C25","v":0},{"$f":"Stocks!D25","v":0},{"$f":"Stocks!E25","v":0},{"$f":"Stocks!F25","v":0},{"$f":"Stocks!G25","v":0},null,0,null,null,null,null,null,null,null,null,0]
[null,null,{"$f":"Stocks!C26","v":0},{"$f":"Stocks!D26","v":0},{"$f":"Stocks!E26","v":0},{"$f":"Stocks!F26","v":0},{"$f":"Stocks!G26","v":0},null,0,null,null,null,null,null,null,null,null,0]
[null,null,{"$f":"Stocks!C27","v":0},{"$f":"Stocks!D27","v":0},{"$f":"Stocks!E27","v":0},{"$f":"Stocks!F27","v":0},{"$f":"Stocks!G27","v":0},null,0,null,null,null,null,null,null,null,null,0]
[null,null,{"$f":"Stocks!C28","v":0},{"$f":"Stocks!D28","v":0},{"$f":"Stocks!E28","v":0},{"$f":"Stocks!F28","v":0},{"$f":"Stocks!G28","v":0},null,0,null,null,null,null,null,null,null,null,0]
[null,null,{"$f":"Stocks!C29","v":0},{"$f":"Stocks!D29","v":0},{"$f":"Stocks!E29","v":0},{"$f":"Stocks!F29","v":0},{"$f":"Stocks!G29","v":0},null,0,null,null,null,null,null,null,null,null,0]
[null,null,{"$f":"Stocks!C30","v":0},{"$f":"Stocks!D30","v":0},{"$f":"Stocks!E30","v":0},{"$f":"Stocks!F30","v":0},{"$f":"Stocks!G30","v":0},null,0,null,null,null,null,null,null,null,null,0]
[null,null,{"$f":"Stocks!C31","v":0},{"$f":"Stocks!D31","v":0},{"$f":"Stocks!E31","v":0},{"$f":"Stocks!F31","v":0},{"$f":"Stocks!G31","v":0},null,0,null,null,null,null,null,null,null,null,0]
[null,null,{"$f":"Stocks!C32","v":0},{"$f":"Stocks!D32","v":0},{"$f":"Stocks!E32","v":0},{"$f":"Stocks!F32","v":0},{"$f":"Stocks!G32","v":0},null,0,null,null,null,null,null,null,null,null,0]
[null,null,{"$f":"Stocks!C33","v":0},{"$f":"Stocks!D33","v":0},{"$f":"Stocks!E33","v":0},{"$f":"Stocks!F33","v":0},{"$f":"Stocks!G33","v":0},null,0,null,null,null,null,null,null,null,null,0]
[null,null,{"$f":"Stocks!C34","v":0},{"$f":"Stocks!D34","v":0},{"$f":"Stocks!E34","v":0},{"$f":"Stocks!F34","v":0},{"$f":"Stocks!G34","v":0},null,0,null,null,null,null,null,null,null,null,0]
[null,null,{"$f":"Stocks!C35","v":0},{"$f":"Stocks!D35","v":0},{"$f":"Stocks!E35","v":0},{"$f":"Stocks!F35","v":0},{"$f":"Stocks!G35","v":0},null,0,null,null,null,null,null,null,null,null,0]
[null,null,{"$f":"Stocks!C36","v":0},{"$f":"Stocks!D36","v":0},{"$f":"Stocks!E36","v":0},{"$f":"Stocks!F36","v":0},{"$f":"Stocks!G36","v":0},null,0,null,null,null,null,null,null,null,null,0]
[null,null,{"$f":"Stocks!C37","v":0},{"$f":"Stocks!D37","v":0},{"$f":"Stocks!E37","v":0},{"$f":"Stocks!F37","v":0},{"$f":"Stocks!G37","v":0},null,0,null,null,null,null,null,null,null,null,0]
[null,null,{"$f":"Stocks!C38","v":0},{"$f":"Stocks!D38","v":0},{"$f":"Stocks!E38","v":0},{"$f":"Stocks!F38","v":0},{"$f":"Stocks!G38","v":0},null,0,null,null,null,null,null,null,null,null,0]
[null,null,{"$f":"Stocks!C39","v":0},{"$f":"Stocks!D39","v":0},{"$f":"Stocks!E39","v":0},{"$f":"Stocks!F39","v":0},{"$f":"Stocks!G39","v":0},null,0,null,null,null,null,null,null,null,null,0]
[null,null,{"$f":"Stocks!C40","v":0},{"$f":"Stocks!D40","v":0},{"$f":"Stocks!E40","v":0},{"$f":"Stocks!F40","v":0},{"$f":"Stocks!G40","v":0},null,0,null,null,null,null,null,null,null,null,0]
[null,null,{"$f":"Stocks!C41","v":0},{"$f":"Stocks!D41","v":0},{"$f":"Stocks!E41","v":0},{"$f":"Stocks!F41","v":0},{"$f":"Stocks!G41","v":0},null,0,null,null,null,null,null,null,null,null,0]
[null,null,{"$f":"Stocks!C42","v":0},{"$f":"Stocks!D42","v":0},{"$f":"Stocks!E42","v":0},{"$f":"Stocks!F42","v":0},{"$f":"Stocks!G42","v":0},null,0,null,null,null,null,null,null,null,null,0]
[null,null,{"$f":"Stocks!C43","v":0},{"$f":"Stocks!D43","v":0},{"$f":"Stocks!E43","v":0},{"$f":"Stocks!F43","v":0},{"$f":"Stocks!G43","v":0},null,0,null,null,null,null,null,null,null,null,0]
[null,null,{"$f":"Stocks!C44","v":0},{"$f":"Stocks!D44","v":0},{"$f":"Stocks!E44","v":0},{"$f":"Stocks!F44","v":0},{"$f":"Stocks!G44","v":0},null,0,null,null,null,null,null,null,null,null,0]
[null,null,{"$f":"Stocks!C45","v":0},{"$f":"Stocks!D45","v":0},{"$f":"Stocks!E45","v":0},{"$f":"Stocks!F45","v":0},{"$f":"Stocks!G45","v":0},null,0,null,null,null,null,null,null,null,null,0]
[null,null,{"$f":"Stocks!C46","v":0},{"$f":"Stocks!D46","v":0},{"$f":"Stocks!E46","v":0},{"$f":"Stocks!F46","v":0},{"$f":"Stocks!G46","v":0},null,0,null,null,null,null,null,null,null,null,0]
[null,null,{"$f":"Stocks!C47","v":0},{"$f":"Stocks!D47","v":0},{"$f":"Stocks!E47","v":0},{"$f":"Stocks!F47","v":0},{"$f":"Stocks!G47","v":0},null,0,null,null,null,null,null,null,null,null,0]
[null,null,{"$f":"Stocks!C48","v":0},{"$f":"Stocks!D48","v":0},{"$f":"Stocks!E48","v":0},{"$f":"Stocks!F48","v":0},{"$f":"Stocks!G48","v":0},null,0,null,null,null,null,null,null,null,null,0]
[null,null,{"$f":"Stocks!C49","v":0},{"$f":"Stocks!D49","v":0},{"$f":"Stocks!E49","v":0},{"$f":"Stocks!F49","v":0},{"$f":"Stocks!G49","v":0},null,0,null,null,null,null,null,null,null,null,0]
[null,null,{"$f":"Stocks!C50","v":0},{"$f":"Stocks!D50","v":0},{"$f":"Stocks!E50","v":0},{"$f":"Stocks!F50","v":0},{"$f":"Stocks!G50","v":0},null,0,null,null,null,null,null,null,null,null,0]
[null,null,{"$f":"Stocks!C51","v":0},{"$f":"Stocks!D51","v":0},{"$f":"Stocks!E51","v":0},{"$f":"Stocks!F51","v":0},{"$f":"Stocks!G51","v":0},null,0,null,null,null,null,null,null,null,null,0]
[null,null,{"$f":"Stocks!C52","v":0},{"$f":"Stocks!D52","v":0},{"$f":"Stocks!E52","v":0},{"$f":"Stocks!F52","v":0},{"$f":"Stocks!G52","v":0},null,0,null,null,null,null,null,null,null,null,0]
[null,null,{"$f":"Stocks!C53","v":0},{"$f":"Stocks!D53","v":0},{"$f":"Stocks!E53","v":0},{"$f":"Stocks!F53","v":0},{"$f":"Stocks!G53","v":0},null,0,null,null,null,null,null,null,null,null,0]
[null,null,{"$f":"Stocks!C54","v":0},{"$f":"Stocks!D54","v":0},{"$f":"Stocks!E54","v":0},{"$f":"Stocks!F54","v":0},{"$f":"Stocks!G54","v":0},null,0,null,null,null,null,null,null,null,null,0]
[null,null,{"$f":"Stocks!C55","v":0},{"$f":"Stocks!D55","v":0},{"$f":"Stocks!E55","v":0},{"$f":"Stocks!F55","v":0},{"$f":"Stocks!G55","v":0},null,0,null,null,null,null,null,null,null,null,0]
[null,null,{"$f":"Stocks!C56","v":0},{"$f":"Stocks!D56","v":0},{"$f":"Stocks!E56","v":0},{"$f":"Stocks!F56","v":0},{"$f":"Stocks!G56","v":0},null,0,null,null,null,null,null,null,null,null,0]
[null,null,{"$f":"Stocks!C57","v":0},{"$f":"Stocks!D57","v":0},{"$f":"Stocks!E57","v":0},{"$f":"Stocks!F57","v":0},{"$f":"Stocks!G57","v":0},null,0,null,null,null,null,null,null,null,null,0]
[null,null,{"$f":"Stocks!C58","v":0},{"$f":"Stocks!D58","v":0},{"$f":"Stocks!E58","v":0},{"$f":"Stocks!F58","v":0},{"$f":"Stocks!G58","v":0},null,0,null,null,null,null,null,null,null,null,0]
[null,null,{"$f":"Stocks!C59","v":0},{"$f":"Stocks!D59","v":0},{"$f":"Stocks!E59","v":0},{"$f":"Stocks!F59","v":0},{"$f":"Stocks!G59","v":0},null,0,null,null,null,null,null,null,null,null,0]
[null,null,{"$f":"Stocks!C60","v":0},{"$f":"Stocks!D60","v":0},{"$f":"Stocks!E60","v":0},{"$f":"Stocks!F60","v":0},{"$f":"Stocks!G60","v":0},null,0,null,null,null,null,null,null,null,null,0]
[null,null,{"$f":"Stocks!C61","v":0},{"$f":"Stocks!D61","v":0},{"$f":"Stocks!E61","v":0},{"$f":"Stocks!F61","v":0},{"$f":"Stocks!G61","v":0},null,0,null,null,null,null,null,null,null,null,0]
[null,null,{"$f":"Stocks!C62","v":0},{"$f":"Stocks!D62","v":0},{"$f":"Stocks!E62","v":0},{"$f":"Stocks!F62","v":0},{"$f":"Stocks!G62","v":0},null,0,null,null,null,null,null,null,null,null,0]
[null,null,{"$f":"Stocks!C63","v":0},{"$f":"Stocks!D63","v":0},{"$f":"Stocks!E63","v":0},{"$f":"Stocks!F63","v":0},{"$f":"Stocks!G63","v":0},null,0,null,null,null,null,null,null,null,null,0]
[null,null,{"$f":"Stocks!C64","v":0},{"$f":"Stocks!D64","v":0},{"$f":"Stocks!E64","v":0},{"$f":"Stocks!F64","v":0},{"$f":"Stocks!G64","v":0},null,0,null,null,null,null,null,null,null,null,0]
[null,null,{"$f":"Stocks!C65","v":0},{"$f":"Stocks!D65","v":0},{"$f":"Stocks!E65","v":0},{"$f":"Stocks!F65","v":0},{"$f":"Stocks!G65","v":0},null,0,null,null,null,null,null,null,null,null,0]
[null,null,{"$f":"Stocks!C66","v":0},{"$f":"Stocks!D66","v":0},{"$f":"Stocks!E66","v":0},{"$f":"Stocks!F66","v":0},{"$f":"Stocks!G66","v":0},null,0,null,null,null,null,null,null,null,null,0]
[null,null,{"$f":"Stocks!C67","v":0},{"$f":"Stocks!D67","v":0},{"$f":"Stocks!E67","v":0},{"$f":"Stocks!F67","v":0},{"$f":"Stocks!G67","v":0},null,0,null,null,null,null,null,null,null,null,0]
[null,null,{"$f":"Stocks!C68","v":0},{"$f":"Stocks!D68","v":0},{"$f":"Stocks!E68","v":0},{"$f":"Stocks!F68","v":0},{"$f":"Stocks!G68","v":0},null,0,null,null,null,null,null,null,null,null,0]
[null,null,{"$f":"Stocks!C69","v":0},{"$f":"Stocks!D69","v":0},{"$f":"Stocks!E69","v":0},{"$f":"Stocks!F69","v":0},{"$f":"Stocks!G69","v":0},null,0,null,null,null,null,null,null,null,null,0]
[null,null,{"$f":"Stocks!C70","v":0},{"$f":"Stocks!D70","v":0},{"$f":"Stocks!E70","v":0},{"$f":"Stocks!F70","v":0},{"$f":"Stocks!G70","v":0},null,0,null,null,null,null,null,null,null,null,0]
[null,null,{"$f":"Stocks!C71","v":0},{"$f":"Stocks!D71","v":0},{"$f":"Stocks!E71","v":0},{"$f":"Stocks!F71","v":0},{"$f":"Stocks!G71","v":0},null,0,null,null,null,null,null,null,null,null,{"$f":"MOD(I71*ROW(I71),13)","v":0}]
[null,null,{"$f":"Stocks!C72","v":0},{"$f":"Stocks!D72","v":0},{"$f":"Stocks!E72","v":0},{"$f":"Stocks!F72","v":0},{"$f":"Stocks!G72","v":0},null,0,null,null,null,null,null,null,null,null,0]
[null,null,{"$f":"Stocks!C73","v":0},{"$f":"Stocks!D73","v":0},{"$f":"Stocks!E73","v":0},{"$f":"Stocks!F73","v":0},{"$f":"Stocks!G73","v":0},null,0,null,null,null,null,null,null,null,null,0]
[null,null,{"$f":"Stocks!C74","v":0},{"$f":"Stocks!D74","v":0},{"$f":"Stocks!E74","v":0},{"$f":"Stocks!F74","v":0},{"$f":"Stocks!G74","v":0},null,0,null,null,null,null,null,null,null,null,0]
[null,null,{"$f":"Stocks!C75","v":0},{"$f":"Stocks!D75","v":0},{"$f":"Stocks!E75","v":0},{"$f":"Stocks!F75","v":0},{"$f":"Stocks!G75","v":0},null,0,null,null,null,null,null,null,null,null,0]
[null,null,{"$f":"Stocks!C76","v":0},{"$f":"Stocks!D76","v":0},{"$f":"Stocks!E76","v":0},{"$f":"Stocks!F76","v":0},{"$f":"Stocks!G76","v":0},null,0,null,null,null,null,null,null,null,null,0]
[null,null,{"$f":"Stocks!C77","v":0},{"$f":"Stocks!D77","v":0},{"$f":"Stocks!E77","v":0},{"$f":"Stocks!F77","v":0},{"$f":"Stocks!G77","v":0},null,0,null,null,null,null,null,null,null,null,0]
[null,null,{"$f":"Stocks!C78","v":0},{"$f":"Stocks!D78","v":0},{"$f":"Stocks!E78","v":0},{"$f":"Stocks!F78","v":0},{"$f":"Stocks!G78","v":0},null,0,null,null,null,null,null,null,null,null,0]
[null,null,{"$f":"Stocks!C79","v":0},{"$f":"Stocks!D79","v":0},{"$f":"Stocks!E79","v":0},{"$f":"Stocks!F79","v":0},{"$f":"Stocks!G79","v":0},null,0,null,null,null,null,null,null,null,null,0]
[null,null,{"$f":"Stocks!C80","v":0},{"$f":"Stocks!D80","v":0},{"$f":"Stocks!E80","v":0},{"$f":"Stocks!F80","v":0},{"$f":"Stocks!G80","v":0},null,0,null,null,null,null,null,null,null,null,0]
[null,null,{"$f":"Stocks!C81","v":0},{"$f":"Stocks!D81","v":0},{"$f":"Stocks!E81","v":0},{"$f":"Stocks!F81","v":0},{"$f":"Stocks!G81","v":0},null,0,null,null,null,null,null,null,null,null,0]
[null,null,{"$f":"Stocks!C82","v":0},{"$f":"Stocks!D82","v":0},{"$f":"Stocks!E82","v":0},{"$f":"Stocks!F82","v":0},{"$f":"Stocks!G82","v":0},null,0,null,null,null,null,null,null,null,null,0]
[null,null,{"$f":"Stocks!C83","v":0},{"$f":"Stocks!D83","v":0},{"$f":"Stocks!E83","v":0},{"$f":"Stocks!F83","v":0},{"$f":"Stocks!G83","v":0},null,0,null,null,null,null,null,null,null,null,0]
[null,null,{"$f":"Stocks!C84","v":0},{"$f":"Stocks!D84","v":0},{"$f":"Stocks!E84","v":0},{"$f":"Stocks!F84","v":0},{"$f":"Stocks!G84","v":0},null,0,null,null,null,null,null,null,null,null,0]
[null,null,{"$f":"Stocks!C85","v":0},{"$f":"Stocks!D85","v":0},{"$f":"Stocks!E85","v":0},{"$f":"Stocks!F85","v":0},{"$f":"Stocks!G85","v":0},null,0,null,null,null,null,null,null,null,null,0]
[null,null,{"$f":"Stocks!C86","v":0},{"$f":"Stocks!D86","v":0},{"$f":"Stocks!E86","v":0},{"$f":"Stocks!F86","v":0},{"$f":"Stocks!G86","v":0},null,0,null,null,null,null,null,null,null,null,0]
[null,null,{"$f":"Stocks!C87","v":0},{"$f":"Stocks!D87","v":0},{"$f":"Stocks!E87","v":0},{"$f":"Stocks!F87","v":0},{"$f":"Stocks!G87","v":0},null,0,null,null,null,null,null,null,null,null,0]
[null,null,{"$f":"Stocks!C88","v":0},{"$f":"Stocks!D88","v":0},{"$f":"Stocks!E88","v":0},{"$f":"Stocks!F88","v":0},{"$f":"Stocks!G88","v":0},null,0,null,null,null,null,null,null,null,null,0]
[null,null,{"$f":"Stocks!C89","v":0},{"$f":"Stocks!D89","v":0},{"$f":"Stocks!E89","v":0},{"$f":"Stocks!F89","v":0},{"$f":"Stocks!G89","v":0},null,0,null,null,null,null,null,null,null,null,0]
[null,null,{"$f":"Stocks!C90","v":0},{"$f":"Stocks!D90","v":0},{"$f":"Stocks!E90","v":0},{"$f":"Stocks!F90","v":0},{"$f":"Stocks!G90","v":0},null,0,null,null,null,null,null,null,null,null,0]
[null,null,{"$f":"Stocks!C91","v":0},{"$f":"Stocks!D91","v":0},{"$f":"Stocks!E91","v":0},{"$f":"Stocks!F91","v":0},{"$f":"Stocks!G91","v":0},null,0,null,null,null,null,null,null,null,null,0]
[null,null,{"$f":"Stocks!C92","v":0},{"$f":"Stocks!D92","v":0},{"$f":"Stocks!E92","v":0},{"$f":"Stocks!F92","v":0},{"$f":"Stocks!G92","v":0},null,0,null,null,null,null,null,null,null,null,0]
[null,null,{"$f":"Stocks!C93","v":0},{"$f":"Stocks!D93","v":0},{"$f":"Stocks!E93","v":0},{"$f":"Stocks!F93","v":0},{"$f":"Stocks!G93","v":0},null,0,null,null,null,null,null,null,null,null,0]
[null,null,{"$f":"Stocks!C94","v":0},{"$f":"Stocks!D94","v":0},{"$f":"Stocks!E94","v":0},{"$f":"Stocks!F94","v":0},{"$f":"Stocks!G94","v":0},null,0,null,null,null,null,null,null,null,null,0]
[null,null,{"$f":"Stocks!C95","v":0},{"$f":"Stocks!D95","v":0},{"$f":"Stocks!E95","v":0},{"$f":"Stocks!F95","v":0},{"$f":"Stocks!G95","v":0},null,0,null,null,null,null,null,null,null,null,0]
[null,null,{"$f":"Stocks!C96","v":0},{"$f":"Stocks!D96","v":0},{"$f":"Stocks!E96","v":0},{"$f":"Stocks!F96","v":0},{"$f":"Stocks!G96","v":0},null,0,null,null,null,null,null,null,null,null,0]
[null,null,{"$f":"Stocks!C97","v":0},{"$f":"Stocks!D97","v":0},{"$f":"Stocks!E97","v":0},{"$f":"Stocks!F97","v":0},{"$f":"Stocks!G97","v":0},null,0,null,null,null,null,null,null,null,null,0]
[null,null,{"$f":"Stocks!C98","v":0},{"$f":"Stocks!D98","v":0},{"$f":"Stocks!E98","v":0},{"$f":"Stocks!F98","v":0},{"$f":"Stocks!G98","v":0},null,0,null,null,null,null,null,null,null,null,0]
[null,null,{"$f":"Stocks!C99","v":0},{"$f":"Stocks!D99","v":0},{"$f":"Stocks!E99","v":0},{"$f":"Stocks!F99","v":0},{"$f":"Stocks!G99","v":0},null,0,null,null,null,null,null,null,null,null,0]
[null,null,{"$f":"Stocks!C100","v":0},{"$f":"Stocks!D100","v":0},{"$f":"Stocks!E100","v":0},{"$f":"Stocks!F100","v":0},{"$f":"Stocks!G100","v":0},null,0,null,null,null,null,null,null,null,null,0]
[null,null,{"$f":"Stocks!C101","v":0},{"$f":"Stocks!D101","v":0},{"$f":"Stocks!E101","v":0},{"$f":"Stocks!F101","v":0},{"$f":"Stocks!G101","v":0},null,0,null,null,null,null,null,null,null,null,0]
[null,null,{"$f":"Stocks!C102","v":0},{"$f":"Stocks!D102","v":0},{"$f":"Stocks!E102","v":0},{"$f":"Stocks!F102","v":0},{"$f":"Stocks!G102","v":0},null,0,null,null,null,null,null,null,null,null,0]
[null,null,{"$f":"Stocks!C103","v":0},{"$f":"Stocks!D103","v":0},{"$f":"Stocks!E103","v":0},{"$f":"Stocks!F103","v":0},{"$f":"Stocks!G103","v":0},null,0,null,null,null,null,null,null,null,null,0]
[null,null,{"$f":"Stocks!C104","v":0},{"$f":"Stocks!D104","v":0},{"$f":"Stocks!E104","v":0},{"$f":"Stocks!F104","v":0},{"$f":"Stocks!G104","v":0},null,0,null,null,null,null,null,null,null,null,0]
[null,null,{"$f":"Stocks!C105","v":0},{"$f":"Stocks!D105","v":0},{"$f":"Stocks!E105","v":0},{"$f":"Stocks!F105","v":0},{"$f":"Stocks!G105","v":0},null,0,null,null,null,null,null,null,null,null,0]
[null,null,{"$f":"Stocks!C106","v":0},{"$f":"Stocks!D106","v":0},{"$f":"Stocks!E106","v":0},{"$f":"Stocks!F106","v":0},{"$f":"Stocks!G106","v":0},null,0,null,null,null,null,null,null,null,null,0]
[null,null,{"$f":"Stocks!C107","v":0},{"$f":"Stocks!D107","v":0},{"$f":"Stocks!E107","v":0},{"$f":"Stocks!F107","v":0},{"$f":"Stocks!G107","v":0},null,0,null,null,null,null,null,null,null,null,0]
[null,null,null,null,null,null,null,null,null,null,null,null,null,null,null,null,null,0]
[null,null,null,null,null,null,null,"Total",null,null,null,null,null,null,null,null,"Keycode",{"$f":"MOD(SUM(R6:R108),6)","v":0}]

{"sheet":"Advanced Stock Query","index":3,"n_rows":3,"n_cols":6,"rows_kept":3,"cut":false,"hidden":true,"merged":[]}
[]
[]
[null,"Company Name","Current Price","Price Change","Percentage Change","Volume"]

{"sheet":"Quotation","index":4,"n_rows":10,"n_cols":6,"rows_kept":10,"cut":false,"hidden":true,"merged":[]}
[]
[null,null,"Company Name","Current Price","Number ordered","Total Price"]
[null,1]
[null,2]
[null,3]
[null,4]
[null,5]
[null,null,null,null,"Total cost of Stocks"]
[null,null,null,null,"Commission 1%"]
[null,null,null,null,"Cost plus Commission"]